BEGIN:VCALENDAR
VERSION:2.0
PRODID:-//ERCA/ARCC - ECPv6.13.2.1//NONSGML v1.0//EN
CALSCALE:GREGORIAN
METHOD:PUBLISH
X-ORIGINAL-URL:https://erca-arcc.org
X-WR-CALDESC:Events for ERCA/ARCC
REFRESH-INTERVAL;VALUE=DURATION:PT1H
X-Robots-Tag:noindex
X-PUBLISHED-TTL:PT1H
BEGIN:VTIMEZONE
TZID:UTC
BEGIN:STANDARD
TZOFFSETFROM:+0000
TZOFFSETTO:+0000
TZNAME:UTC
DTSTART:20240101T000000
END:STANDARD
END:VTIMEZONE
BEGIN:VEVENT
DTSTART;TZID=UTC:20241002T090000
DTEND;TZID=UTC:20241003T170000
DTSTAMP:20260421T112428
CREATED:20240906T182452Z
LAST-MODIFIED:20240906T182810Z
UID:20757-1727859600-1727974800@erca-arcc.org
SUMMARY:Inauguration of the ECOWAS Regional Competition Authority (ERCA) Council
DESCRIPTION:We are excited to announce the inauguration of the ECOWAS Regional Competition Authority (ERCA) Council\, marking a significant milestone in advancing regional integration and fostering fair competition across the ECOWAS community. \nComprising ten distinguished members\, the ERCA Council will play a vital role in guiding the implementation of competition policies\, reviewing commercial activities\, and enforcing competition regulations to ensure a level playing field for businesses throughout the region.
URL:https://erca-arcc.org/event/inauguration-of-the-ecowas-regional-competition-authority-erca-council/
ATTACH;FMTTYPE=image/jpeg:https://erca-arcc.org/wp-content/uploads/2024/09/Inaugural-Meeting.jpg
END:VEVENT
BEGIN:VEVENT
DTSTART;TZID=UTC:20241023T090000
DTEND;TZID=UTC:20241025T170000
DTSTAMP:20260421T112428
CREATED:20240906T194114Z
LAST-MODIFIED:20240906T194114Z
UID:20778-1729674000-1729875600@erca-arcc.org
SUMMARY:Second Meeting of the Competition Authorities of the Regional Economic Communities (RECs)
DESCRIPTION:The ECOWAS and UEMOA Commissions are delighted to announce the second meeting of the competition authorities of the Regional Economic Communities (RECs)\, set to take place in Abidjan\, Côte d’Ivoire\, from October 23 to 25\, 2024.
URL:https://erca-arcc.org/event/second-meeting-of-the-competition-authorities-of-the-regional-economic-communities-recs/
LOCATION:Abidjan\, Abidjan
ATTACH;FMTTYPE=image/jpeg:https://erca-arcc.org/wp-content/uploads/2024/09/LOGO.jpg
END:VEVENT
END:VCALENDAR