BEGIN:VCALENDAR
VERSION:2.0
PRODID:-//ERCA/ARCC - ECPv6.13.2.1//NONSGML v1.0//EN
CALSCALE:GREGORIAN
METHOD:PUBLISH
X-ORIGINAL-URL:https://erca-arcc.org
X-WR-CALDESC:Events for ERCA/ARCC
REFRESH-INTERVAL;VALUE=DURATION:PT1H
X-Robots-Tag:noindex
X-PUBLISHED-TTL:PT1H
BEGIN:VTIMEZONE
TZID:UTC
BEGIN:STANDARD
TZOFFSETFROM:+0000
TZOFFSETTO:+0000
TZNAME:UTC
DTSTART:20260101T000000
END:STANDARD
END:VTIMEZONE
BEGIN:VEVENT
DTSTART;TZID=UTC:20260915T091700
DTEND;TZID=UTC:20260917T170000
DTSTAMP:20260423T090758
CREATED:20260415T082045Z
LAST-MODIFIED:20260415T082047Z
UID:24783-1789463820-1789664400@erca-arcc.org
SUMMARY:naugural Annual Conference of the ECOWAS Regional Competition Authority
DESCRIPTION:https://erca-arcc.org/wp-content/uploads/2026/04/WhatsApp-Video-2026-04-15-at-12.54.16-AM.mp4
URL:https://erca-arcc.org/event/naugural-annual-conference-of-the-ecowas-regional-competition-authority/
END:VEVENT
END:VCALENDAR